BEGIN:VCALENDAR
VERSION:2.0
PRODID:-//Ela´s Spinnereien - ECPv6.15.20//NONSGML v1.0//EN
CALSCALE:GREGORIAN
METHOD:PUBLISH
X-WR-CALNAME:Ela´s Spinnereien
X-ORIGINAL-URL:https://elas-spinnereien.de
X-WR-CALDESC:Veranstaltungen für Ela´s Spinnereien
REFRESH-INTERVAL;VALUE=DURATION:PT1H
X-Robots-Tag:noindex
X-PUBLISHED-TTL:PT1H
BEGIN:VTIMEZONE
TZID:UTC
BEGIN:STANDARD
TZOFFSETFROM:+0000
TZOFFSETTO:+0000
TZNAME:UTC
DTSTART:20230101T000000
END:STANDARD
END:VTIMEZONE
BEGIN:VEVENT
DTSTART;VALUE=DATE:20240524
DTEND;VALUE=DATE:20240527
DTSTAMP:20260426T001313
CREATED:20240529T095029Z
LAST-MODIFIED:20240529T095052Z
UID:795-1716508800-1716767999@elas-spinnereien.de
SUMMARY:8. Bogener Rautentage 2024 (Mittelalterspektakulum)
DESCRIPTION:Das besondere Mittelalterspektakulum im Europapark Bayern-Böhmen vom Freitag\, 24. – Sonntag\, 26. Mai 2024 bei freiem Eintritt\nSeid gegrüßt\, Ihr Fremden\, Freunde und Besucher\, \nBereits zum wiederholten Male verwandelt sich unser Europapark in eine beeindruckende\, mittelalterliche Kulisse. Geschichtlicher Hintergrund des Festes ist die Hochzeit der Bogener Gräfin Ludmilla mit dem Wittelsbacher Herzog Ludwig I. von Bayern im Jahre 1204. Diese Heirat war das Fundament für die Rauten im bayerischen Staatswappen. Darum darf sich auch die Stadt Bogen\, die Wiege des Bayerischen Rautenwappens nennen.Dieses mittelalterliche Fest soll einen Einblick in das Leben im 12./13. Jahrhundert geben und Sie in die Zeit des Mittelalters entführen. Speis und Trank\, spektakuläre Kämpfe\, Gaukler und Händler erwarten die ganze Familie. \nLassen Sie sich vom besonderen Ambiente des Parks verzaubern und genießen sie ein 3-tägiges „Mittelalterspektakulum“ der Extraklasse für die ganze Familie bei freiem Eintritt.
URL:https://elas-spinnereien.de/events/8-bogener-rautentage-2024-mittelalterspektakulum
LOCATION:Europapark Bayern-Böhmen\, Lintacher-Straße 31\, Bogen\, Bayern\, 94327\, Deutschland
CATEGORIES:Lager,Markt,Mittelaltermarkt,Turnier
ATTACH;FMTTYPE=image/png:https://elas-spinnereien.de/wp-content/uploads/2024/05/csm_8._Bogener_Rautentage_-_Plakat_-_2024__8758c493a7.png
ORGANIZER;CN="Stadt Bogen":MAILTO:info@bogen.de
END:VEVENT
END:VCALENDAR