BEGIN:VCALENDAR
VERSION:2.0
PRODID:-//Ela´s Spinnereien - ECPv6.15.20//NONSGML v1.0//EN
CALSCALE:GREGORIAN
METHOD:PUBLISH
X-ORIGINAL-URL:https://elas-spinnereien.de
X-WR-CALDESC:Veranstaltungen für Ela´s Spinnereien
REFRESH-INTERVAL;VALUE=DURATION:PT1H
X-Robots-Tag:noindex
X-PUBLISHED-TTL:PT1H
BEGIN:VTIMEZONE
TZID:UTC
BEGIN:STANDARD
TZOFFSETFROM:+0000
TZOFFSETTO:+0000
TZNAME:UTC
DTSTART:20230101T000000
END:STANDARD
END:VTIMEZONE
BEGIN:VEVENT
DTSTART;VALUE=DATE:20240601
DTEND;VALUE=DATE:20240603
DTSTAMP:20260425T224755
CREATED:20240529T095933Z
LAST-MODIFIED:20240530T121448Z
UID:802-1717200000-1717372799@elas-spinnereien.de
SUMMARY:ABGESAGT wegen unsicherer Wetterlage: Pilgerlager zum Blutsfest 2024 in Burgwindheim
DESCRIPTION:In den dunklen Tagen des Mittelalters war die Burg zu Windheim in Mitten des nebligen Dorfsees nur mit einer Zugbrücke zu erreichen. Vor den Toren der Burg trieb der Waldpöbel vom Käppler Wald sein Unwesen.\nEs begab sich anno 2013\, dass der Schultheis zu Windheim mit seinen schwarzen Rittern das 650 jährige Marktrecht\, zusammen mit einer kleinen Truppe von Lagerleuten und Reisenden\, feierte.\nIm Jahre 2015\, zum 550. Fest zum heiligen Blut übernahm der Kreuzritter Albert dieses Lager zusammen mit den tapferen Recken aus Winnäm und einem riesigen Heer von Pilgern und Kaufmannsleuten. \nSeit 2017 wird das Sanguis Sanctissimus von Gesindel und Taugenichts alle zwei Jahre zum Beginn der Blutsfestwoche ins Leben gerufen.\nDas Treiben beginnt am Samstag\, den 01.06.2024 um 13.00 Uhr mit der Gruppe Neumentroll\, die mit ihren Sackpfeifen und Schlagwerk den Markt eröffnen.\nSpielleute und Gaukler werden sich den ganzen Tag um das Handgeklapper bemühen. Bis in die Nacht hinein wird Neumen Troll mit einem Abendkonzert und Variete Feuerzirkus mit der Feuershow das Publikum begeistern.\nDas Sanguis Santissimus Pilgerlager ist seit 2015 DAS Mittelalter-Event im Steigerwald und setzt eine Zeichen zum Beginn der Blutsfestwoche.\nMit Gaukelei\, Wein\, Weib und Gesang ist für jeden was dabei. \nLast uns durchdrehen in dieser Nacht\nAm 1. – 2. Juni anno 2024\, zu Beginn der Blutsfestwoche\, steht Burgwindheim endlich wieder im Zeichen des Pilgerlagers und Mittelaltermarktes Sanguis Sanctissimus\nBurgwindheim freut sich darauf Gaukler\, Spielleut\, Händler mit Marktständen\, Lagergruppen sowohl Gäste und Volk zu begrüßen.\nVor der Kulisse des Schlosses zu Burgwindheim und in den Wiesen der Dorfsee bauen mittelalterliche Händler ihre Stände auf\, zeigen Handwerker ihre außergewöhnlichen Fertigkeiten und servieren Schankwirte und Marktköche kulinarischen Köstlichkeiten aus fernen Zeiten. Allerlei mittelalterliches Geschehen animieren kleine und große Marktbesucher zum Mitmachen. Rund um den Markt lagern Rittersleute und ihr Gefolge. \nProgramm Samstag:\n13.00 Uhr Markteröffnung\n-Spielleute Neumentroll\n-Das Schaukelsell\n– TriFabula\nMittelaterliche Stelzenläufer\nMittelalterliche Feuershows\n-Ritterkindertunierbahn\n-Gaukeley\n-Bogenschießen\n-Meister Johannes\, die andere Seite eines Scharfrichters.\n24:00 Uhr Marktende \nProgramm Sonntag:\n11.00 Uhr Markteröffnung\nMarkttreiber\, Gaukler und Spielleut werden verteilt über den Tag das Publikum unterhalten und auf eine Reise ins Mittelalter mitnehmen.\n18:00 Marktende\nDes Weiteren findet Ihr auf dem Gelände: Rittersleute mit Lager und Gefolge und mittelalterliche Handwerkskunst\nVeranstalter: Markt Burgwindheim\nKontakt: www.pilgerlager-burgwindheim.de\, kontakt@pilgerlager.com\, info@burgwindheim.de +49 9553 922041\nKarten: Tagesticket 5\,00€        Wochenendticket 8\,00€             Kinder unter Schwertlänge frei
URL:https://elas-spinnereien.de/events/pilgerlager-zum-blutsfest-2024-in-burgwindheim
LOCATION:49°49’37.1″N 10°35’50.8″E\, Burgwindheim\, 96154
CATEGORIES:Lager,Markt,Mittelaltermarkt
ATTACH;FMTTYPE=image/jpeg:https://elas-spinnereien.de/wp-content/uploads/2024/05/picture-2600.jpg
ORGANIZER;CN="Markt Burgwindheim":MAILTO:pilgerlager@blutsfest.de
END:VEVENT
END:VCALENDAR