BEGIN:VCALENDAR
VERSION:2.0
PRODID:-//Ela´s Spinnereien - ECPv6.15.20//NONSGML v1.0//EN
CALSCALE:GREGORIAN
METHOD:PUBLISH
X-WR-CALNAME:Ela´s Spinnereien
X-ORIGINAL-URL:https://elas-spinnereien.de
X-WR-CALDESC:Veranstaltungen für Ela´s Spinnereien
REFRESH-INTERVAL;VALUE=DURATION:PT1H
X-Robots-Tag:noindex
X-PUBLISHED-TTL:PT1H
BEGIN:VTIMEZONE
TZID:UTC
BEGIN:STANDARD
TZOFFSETFROM:+0000
TZOFFSETTO:+0000
TZNAME:UTC
DTSTART:20240101T000000
END:STANDARD
END:VTIMEZONE
BEGIN:VEVENT
DTSTART;VALUE=DATE:20250906
DTEND;VALUE=DATE:20250908
DTSTAMP:20260424T233449
CREATED:20241107T164443Z
LAST-MODIFIED:20241107T164443Z
UID:838-1757116800-1757289599@elas-spinnereien.de
SUMMARY:XIII. Mittelalterspektakel auf Gut Leimershof
DESCRIPTION:Seyd herzlichst Eingeladen zum Mittelalter Spektakel auf Gut Leimershof in Bayern. Erfreud Euer aller Augen an Gauklern\, Handwerkern\, Mittelalterlichen Markt Händlern\, Heerlagern und alten Gewerken. \nErfreud Euer Ohren an Mittelalterlichen Klängen und lasst Euch verwöhnen von Mittelalterlichen Speisen und taucht hinein ins Mittelalter \n– Schwertkampf – Musik – Gaukeley – Lagerleben – großer Mittelalterlicher Markt – Handwerkskunst – \n– Bogenturnier – \n– Kinderbelustigung – Ponyreiten – Kutschfahrten – \n– Spezialitäten aus dem Smoker und Steinbackofen – \nSchmaus & Trank\, Musik\, Kinderbelustigung\, Lager\, Mittelaltermarkt\, Ponyreiten\, Handwerk\, Kutschfahrten! \nMit fränkischem Mittagstisch aus der Holzküche\, Samstag und Sonntag immer mittelalterliche Livemusik!
URL:https://elas-spinnereien.de/events/xiii-mittelalterspektakel-auf-gut-leimershof
LOCATION:Gut Leimershof\, Breitengüßbach\, Gut Leimershof\, Breitengüßbach\, Bayern\, 96149\, Deutschland
CATEGORIES:Lager,Markt,Mittelaltermarkt,Turnier
ATTACH;FMTTYPE=image/jpeg:https://elas-spinnereien.de/wp-content/uploads/2017/07/28337110_947624232058237_1196482333851853869_o.jpg
END:VEVENT
END:VCALENDAR