BEGIN:VCALENDAR
VERSION:2.0
PRODID:-//Ela´s Spinnereien - ECPv6.15.20//NONSGML v1.0//EN
CALSCALE:GREGORIAN
METHOD:PUBLISH
X-ORIGINAL-URL:https://elas-spinnereien.de
X-WR-CALDESC:Veranstaltungen für Ela´s Spinnereien
REFRESH-INTERVAL;VALUE=DURATION:PT1H
X-Robots-Tag:noindex
X-PUBLISHED-TTL:PT1H
BEGIN:VTIMEZONE
TZID:UTC
BEGIN:STANDARD
TZOFFSETFROM:+0000
TZOFFSETTO:+0000
TZNAME:UTC
DTSTART:20240101T000000
END:STANDARD
END:VTIMEZONE
BEGIN:VEVENT
DTSTART;TZID=UTC:20250919T160000
DTEND;TZID=UTC:20250921T180000
DTSTAMP:20260424T234010
CREATED:20250611T072009Z
LAST-MODIFIED:20250825T070350Z
UID:866-1758297600-1758477600@elas-spinnereien.de
SUMMARY:Laufer Lichtblicke 2025 mit mittelalterlichem Markt (Südtiroler Stuben)
DESCRIPTION:Feierliche Eröffnung der laufer.lichtblicke.25 \nAm Freitag\, 19.9.2025\, um 15:30 Uhr vor der Wenzelburg\n  \nVom 19. bis 21. September 2025 finden wieder die „Laufer Lichtblicke“ statt. \nAn drei Tagen erwartet alle Gäste ein vielfältiges buntes Kultur- und Unterhaltungsprogramm. \n  \nZum Programm gehören unter anderem mittelalterliches Treiben im Hof der Südtiroler Stuben\, Lesungen in der Kirchenruine St. Leonhard\, ein Kneipenquiz-Spezial im Hof der Wenzelburg sowie mehrere Konzerte – darunter „Christl & the Session Club“ und „Dr. Swing and the Jazz Gang“. \nErgänzt wird das Angebot durch Kunstmärkte regionaler Künstlergruppen\, eine Sonderausstellung in der Burgstube der Wenzelburg sowie besondere Mitmachaktionen wie Light Painting im JuZ und ein „Labyrinth der Lichter“ in der Spitalruine. \n  \nAuch zahlreiche Händler beteiligen sich kreativ: \nMit insgesamt 17 dekorierten Schaufenstern entsteht aus einzelnen Buchstaben der Titel „Laufer Lichtblicke“  – \n  \nAllen Termine finden Sie unter https://lauf.de/laufer-lichtblicke \, sowie Details zum Programm und der Veranstaltungsflyer zum Download. \n\nTauchen Sie ein in ein Wochenende voller leuchtender Augenblicke!\n\n\n\nMittelalterliches Treiben im Hof der Südtiroler Stuben\nFreitag\, 19.9.2025 ab 16.00 Uhr \nSamstag\, 20.9.2025 und Sonntag\, 21.9.2025 ab 10:30 Uhr \n  \n\nSeilerei (Kinder können hier selbst ihre eigenen Springseile mit herstellen)\nArmbrustschießen für Kinder\nSchmiedevorführungen für Kinder\nKinder-Schminken und Glitzer-Tattoos\nStockbrotbacken für Kinder\, u.v.m.\n\nAm Sonntag entführt eine Märchenerzählerin Groß und Klein in die Welt der Geschichten\,\nJeweils um 11:30 12:30\, 14:30\, 16.00 und 17.00 Uhr
URL:https://elas-spinnereien.de/events/laufer-lichtblicke-2025-mit-mittelalterlichem-markt-suedtiroler-stuben
LOCATION:Südtiroler Stuben\, Lauf an der Pegnitz\, Hersbrucker Str. 1\, Lauf\, Bayern\, 91207\, Germany
CATEGORIES:Handwerk,Markt,Mittelaltermarkt,Stadtmarkt
ATTACH;FMTTYPE=image/jpeg:https://elas-spinnereien.de/wp-content/uploads/2025/06/Flyer_laufer.lichtblicke.25_1-1.jpg
ORGANIZER;CN="Stadt Lauf an der Pegnitz":MAILTO:info@lauf.de
END:VEVENT
END:VCALENDAR