BEGIN:VCALENDAR
VERSION:2.0
PRODID:-//Ela´s Spinnereien - ECPv6.15.20//NONSGML v1.0//EN
CALSCALE:GREGORIAN
METHOD:PUBLISH
X-WR-CALNAME:Ela´s Spinnereien
X-ORIGINAL-URL:https://elas-spinnereien.de
X-WR-CALDESC:Veranstaltungen für Ela´s Spinnereien
REFRESH-INTERVAL;VALUE=DURATION:PT1H
X-Robots-Tag:noindex
X-PUBLISHED-TTL:PT1H
BEGIN:VTIMEZONE
TZID:UTC
BEGIN:STANDARD
TZOFFSETFROM:+0000
TZOFFSETTO:+0000
TZNAME:UTC
DTSTART:20250101T000000
END:STANDARD
END:VTIMEZONE
BEGIN:VEVENT
DTSTART;VALUE=DATE:20260620
DTEND;VALUE=DATE:20260622
DTSTAMP:20260424T164312
CREATED:20250825T072914Z
LAST-MODIFIED:20250825T072914Z
UID:894-1781913600-1782086399@elas-spinnereien.de
SUMMARY:Marktspectaculum zu Bärnau 2026 (Geschichtspark Bärnau-Tachov - Museumsdorf)
DESCRIPTION:Das Marktspectaculum in Bärnau ist ein historisches Mittelalterfest\, das alle zwei Jahre in der Altstadt von Bärnau stattfindet. Auch 2026 wird das Fest in gefeiert. Es bietet Einblicke in historische Handwerkstechniken\, Gauklervorstellungen und einen historischen Festzug mit Rittern\, Gewandeten und Musikern. Natürlich beteiligt sich auch der Geschichtspark Bärnau-Tachov! Wir freuen uns auf viele Besucher\, die mit uns gemeinsam das Mittelalter feiern. \n\n\n\n\n\n\n\n\n\n\n 
URL:https://elas-spinnereien.de/events/marktspectaculum-zu-baernau-2026-geschichtspark-baernau-tachov-museumsdorf
LOCATION:Geschichtspark Bärnau-Tachov\, Naaber Str. 5b\, Bärnau\, Bayern\, 95671\, Germany
CATEGORIES:Handwerk,Lager,Markt,Mittelaltermarkt,Stadtmarkt
ATTACH;FMTTYPE=image/jpeg:https://elas-spinnereien.de/wp-content/uploads/2025/08/Baernau-Herbst-17_bearb-2-scaled-1.jpg
ORGANIZER;CN="Stadt B%C3%A4rnau":MAILTO:poststelle@baernau.de
END:VEVENT
END:VCALENDAR