BEGIN:VCALENDAR
VERSION:2.0
PRODID:-//Ela´s Spinnereien - ECPv6.15.20//NONSGML v1.0//EN
CALSCALE:GREGORIAN
METHOD:PUBLISH
X-WR-CALNAME:Ela´s Spinnereien
X-ORIGINAL-URL:https://elas-spinnereien.de
X-WR-CALDESC:Veranstaltungen für Ela´s Spinnereien
REFRESH-INTERVAL;VALUE=DURATION:PT1H
X-Robots-Tag:noindex
X-PUBLISHED-TTL:PT1H
BEGIN:VTIMEZONE
TZID:UTC
BEGIN:STANDARD
TZOFFSETFROM:+0000
TZOFFSETTO:+0000
TZNAME:UTC
DTSTART:20230101T000000
END:STANDARD
END:VTIMEZONE
BEGIN:VEVENT
DTSTART;VALUE=DATE:20240726
DTEND;VALUE=DATE:20240729
DTSTAMP:20260425T194240
CREATED:20240529T100245Z
LAST-MODIFIED:20240529T100245Z
UID:807-1721952000-1722211199@elas-spinnereien.de
SUMMARY:Mittelaltermarkt mit Hussitenlager\, Neunburg vorm Wald 2024
DESCRIPTION:Mittelaltermarkt mit Hussitenlager\nIm Neunburger Stadtpark wird jeden Sommer eine längst vergangene Zeit lebendig. Am Fuße des Wittelsbacher Schlosses erwartet die Besucher ein farbenprächtiges und ausgelassenes Markttreiben mit „allerley Spectaculum und Kurzweyl“. Diese alljährliche Veranstaltung hat sich längst einen guten Ruf in der Szene erworben und besitzt wegen seiner idyllischen Lage im Park und am Wasser sein besonderes Flair. \n\n\n\n\n\n\n\n\n\nÖffnungszeiten\nFreitag 26. Juli 2024 von 18.00 Uhr bis 24.00Uhr\nSamstag 27. Juli 2024 von 11.00 Uhr bis 24.00 Uhr\nSonntag 28. Juli 2024 von 11.00 Uhr bis 21.00 Uhr \n\n\n\n\nPreise\nErwachsene 1 Tag 4 Euro\nKinder 1 Tag 1 Euro \nErwachsene ganzes Wochenende 7 Euro\nKinder ganzes Wochenende 2 Euro \nKinder unter Schwertmaß und historisch Gewandete habe freien Eintritt
URL:https://elas-spinnereien.de/events/mittelaltermarkt-mit-hussitenlager-neunburg-vorm-wald-2024
LOCATION:Neunburg vorm Wald\, stadtpark\, Neunburb vorm Wald\, Bayern\, 92431\, Deutschland
CATEGORIES:Lager,Markt,Mittelaltermarkt,Turnier
ATTACH;FMTTYPE=image/jpeg:https://elas-spinnereien.de/wp-content/uploads/2017/06/873683eb9128f715e17d5142b3d21289.jpg
END:VEVENT
END:VCALENDAR