BEGIN:VCALENDAR
VERSION:2.0
PRODID:-//Ela´s Spinnereien - ECPv6.15.20//NONSGML v1.0//EN
CALSCALE:GREGORIAN
METHOD:PUBLISH
X-ORIGINAL-URL:https://elas-spinnereien.de
X-WR-CALDESC:Veranstaltungen für Ela´s Spinnereien
REFRESH-INTERVAL;VALUE=DURATION:PT1H
X-Robots-Tag:noindex
X-PUBLISHED-TTL:PT1H
BEGIN:VTIMEZONE
TZID:UTC
BEGIN:STANDARD
TZOFFSETFROM:+0000
TZOFFSETTO:+0000
TZNAME:UTC
DTSTART:20250101T000000
END:STANDARD
END:VTIMEZONE
BEGIN:VEVENT
DTSTART;VALUE=DATE:20260501
DTEND;VALUE=DATE:20260504
DTSTAMP:20260424T141400
CREATED:20250927T065104Z
LAST-MODIFIED:20250927T114231Z
UID:920-1777593600-1777852799@elas-spinnereien.de
SUMMARY:Annotopia\, Bad Mergentheim 2026
DESCRIPTION:Festivalspektakel für die ganze Familie.\n\n\n\n\n\n\n\nRömer\, Star Wars\, Zauberer\, Endzeitler\, Dinosaurier\, Steampunk\, Wilder Westen\, Herr der Ringe\, Live-Musik\, Mittelalter\, Wikinger\, Cosplay\, Piraten\, u. v. m. \n\n\nDie Welt von ANNOTOPIA mit einem Klick!\nNach den tollen Premiere-Festen in 2018 mit über 10.000 Besuchern und den Neuauflagen 2019 mit\ninsgesamt über 16.000 Besuchern kam die lange Corona-Pause. In 2021 konnte die ANNOTOPIA-Reise jedoch\nglücklicher Weise weitergehen. Es wurde noch fantastischer … und das gleich dreimal und mit über 20.000 Besuchern!\nDer bisherige Zenit wurde im Jahr 2023 erreicht: mit über 35.000 Besuchern an vier Standorten. \n\nTickets für die Veranstaltung unter:\nhttps://annotopia.eu/tickets/
URL:https://elas-spinnereien.de/events/annotopia-bad-mergentheim-2026
LOCATION:Residenzschloss Bad Mergentheim\, Schloß 16\, Bad Mergentheim\, Baden-Württemberg\, 97980\, Germany
CATEGORIES:Endzeit,Fantasy-Festival,Handwerk,Harry Potter,Herr der Ringe,Kleopatra,Lager,Markt,Mittelalter,Mittelaltermarkt,Piraten,Römer,Steampunk,Viking
ATTACH;FMTTYPE=image/jpeg:https://elas-spinnereien.de/wp-content/uploads/2025/09/Screenshot-2025-09-27-084952.jpg
ORGANIZER;CN="noa entertainment GmbH":MAILTO:info@noa-entertainment.de
END:VEVENT
BEGIN:VEVENT
DTSTART;VALUE=DATE:20260516
DTEND;VALUE=DATE:20260518
DTSTAMP:20260424T141400
CREATED:20251016T121015Z
LAST-MODIFIED:20251016T121015Z
UID:1002-1778889600-1779062399@elas-spinnereien.de
SUMMARY:Mittelalterliches Marktfest 2026 - Markt Erlbach
DESCRIPTION:Am 16. und 17. Mai 2026 ist es wieder so weit!\n\nBeeindruckendes Lagerleben\, mitreisendes Bühnenprogramm mit Gauklern und Live-Musik\, tolle Aktionen für die Kids und bunte Budengassen mit allerlei Tand und leiblichen Genüssen. All das und noch viel mehr erwartet Sie auch 2026 wieder auf unserem mittelalterlichem Marktfest in Markt Erlbach.
URL:https://elas-spinnereien.de/events/mittelalterliches-marktfest-2026-markt-erlbach
LOCATION:Markt Markt Erlbach\, Neue Straße 16\, Markt Markt Erlbach\, Bayern\, 91459\, Germany
CATEGORIES:Handwerk,Lager,Markt,Mittelaltermarkt,Stadtmarkt
ATTACH;FMTTYPE=image/jpeg:https://elas-spinnereien.de/wp-content/uploads/2025/10/Marktfest_2026-scaled.jpg
ORGANIZER;CN="Markt Markt Erlbach":MAILTO:info@markt-erlbach.de
END:VEVENT
BEGIN:VEVENT
DTSTART;VALUE=DATE:20260529
DTEND;VALUE=DATE:20260601
DTSTAMP:20260424T141400
CREATED:20250825T070718Z
LAST-MODIFIED:20251016T121056Z
UID:890-1780012800-1780271999@elas-spinnereien.de
SUMMARY:9. Bogener Rautentage 2026 (Mittelalterspektakulum)
DESCRIPTION:Das besondere Mittelalterspektakulum im Europapark Bayern-Böhmen vom Freitag\, 29. – Sonntag\, 31. Mai 2026 bei freiem Eintritt\nSeid gegrüßt\, Ihr Fremden\, Freunde und Besucher\, \nBereits zum wiederholten Male verwandelt sich unser Europapark in eine beeindruckende\, mittelalterliche Kulisse. Geschichtlicher Hintergrund des Festes ist die Hochzeit der Bogener Gräfin Ludmilla mit dem Wittelsbacher Herzog Ludwig I. von Bayern im Jahre 1204. Diese Heirat war das Fundament für die Rauten im bayerischen Staatswappen. Darum darf sich auch die Stadt Bogen\, die Wiege des Bayerischen Rautenwappens nennen.Dieses mittelalterliche Fest soll einen Einblick in das Leben im 12./13. Jahrhundert geben und Sie in die Zeit des Mittelalters entführen. Speis und Trank\, spektakuläre Kämpfe\, Gaukler und Händler erwarten die ganze Familie. \nLassen Sie sich vom besonderen Ambiente des Parks verzaubern und genießen sie ein 3-tägiges „Mittelalterspektakulum“ der Extraklasse für die ganze Familie bei freiem Eintritt.
URL:https://elas-spinnereien.de/events/9-bogener-rautentage-2026-mittelalterspektakulum
LOCATION:Europapark Bayern-Böhmen\, Lintacher-Straße 31\, Bogen\, Bayern\, 94327\, Deutschland
CATEGORIES:Handwerk,Lager,Markt,Mittelaltermarkt,Turnier
ATTACH;FMTTYPE=image/jpeg:https://elas-spinnereien.de/wp-content/uploads/2025/08/csm_9.Bogener_Rautentage_edca642d81.jpg
ORGANIZER;CN="Stadt Bogen":MAILTO:info@bogen.de
END:VEVENT
END:VCALENDAR